BEGIN:VCALENDAR
VERSION:2.0
PRODID:-// - ECPv6.13.2.1//NONSGML v1.0//EN
CALSCALE:GREGORIAN
METHOD:PUBLISH
X-ORIGINAL-URL:https://thebackstop.net
X-WR-CALDESC:Events for 
REFRESH-INTERVAL;VALUE=DURATION:PT1H
X-Robots-Tag:noindex
X-PUBLISHED-TTL:PT1H
BEGIN:VTIMEZONE
TZID:America/New_York
BEGIN:DAYLIGHT
TZOFFSETFROM:-0500
TZOFFSETTO:-0400
TZNAME:EDT
DTSTART:20230312T070000
END:DAYLIGHT
BEGIN:STANDARD
TZOFFSETFROM:-0400
TZOFFSETTO:-0500
TZNAME:EST
DTSTART:20231105T060000
END:STANDARD
END:VTIMEZONE
BEGIN:VEVENT
DTSTART;TZID=America/New_York:20230119T100000
DTEND;TZID=America/New_York:20230119T160000
DTSTAMP:20260425T115605
CREATED:20241107T150053Z
LAST-MODIFIED:20240907T154538Z
UID:663-1674122400-1674144000@thebackstop.net
SUMMARY:JSA ON-SITE AUTOGRAPH AUTHENTICATION
DESCRIPTION:Thursday January 19th – Bring YOUR signed piece of historical\, celebrity or sports memorabilia to be authenticated by JSA (fees apply).\nBuyer from The Backstop will be on site. (submissions will not be accepted after 3:00pm)\n(If you can’t make it that day\, you may drop off your items ahead of the event)\nWhy you should have your signed treasure authenticated…\nJSA Letter’s of Authenticity are guaranteed to be accepted by all collectors\, dealers\, and auction houses worldwide\, or your submission fee will be reimbursed. Increased value and a confident buyer for faster sale of autographed memorabilia. Peace of mind that your memorabilia is deemed authentic and ready to be sold\, passed along to a family member\, or cherished forever. Secure\, virtually impossible to replicate proprietary watermark JSA Letter of Authenticity with corresponding high-resolution image and a unique alpha-numeric certification sticker.
URL:https://thebackstop.net/event/get-my-memorabilia-authenticated/
LOCATION:The Backstop Collectibles LLC\, 3400 Route 37\, Toms River\, NJ\, 08753\, United States
CATEGORIES:The Backstop Events
ORGANIZER;CN="The Backstop":MAILTO:TheBackstop@comcast.net
END:VEVENT
END:VCALENDAR